BEGIN:VCALENDAR
VERSION:2.0
PRODID:-//eventon.com NONSGML v1.0//EN
CALSCALE:GREGORIAN
METHOD:PUBLISH
BEGIN:VEVENT
UID:69e743321d03c
DTSTAMP:20260421T092818Z
DTSTART:20220930T080000Z
DTEND:20220930T130000Z
LOCATION:
SUMMARY:12. MEDNARODNI FILMSKI FESTIVAL STOP TRIK - 1. aMT\,  1.bMT
DESCRIPTION:\nhttps://www.ssom.si/events/12-mednarodni-filmski-festival-sto
 p-trik-1-amt-1-bmt/
URL:https://www.ssom.si/events/12-mednarodni-filmski-festival-stop-trik-1-amt-1-bmt/
END:VEVENT
END:VCALENDAR