BEGIN:VCALENDAR
VERSION:2.0
PRODID:-//eventon.com NONSGML v1.0//EN
CALSCALE:GREGORIAN
METHOD:PUBLISH
BEGIN:VEVENT
UID:69e8a0cce18a4
DTSTAMP:20260422T101956Z
DTSTART:20220922T063000Z
DTEND:20220922T120000Z
LOCATION:
SUMMARY:FESTIVAL NOVOMEDIJSKE KULTURE - TRBOVLJE - 1.bGO\,  2.GO\,  3.bGO
DESCRIPTION:\nhttps://www.ssom.si/events/festival-novomedijske-kulture-trbo
 vlje-1-bgo-2-go-3-bgo/
URL:https://www.ssom.si/events/festival-novomedijske-kulture-trbovlje-1-bgo-2-go-3-bgo/
END:VEVENT
END:VCALENDAR