BEGIN:VCALENDAR
VERSION:2.0
PRODID:-//eventon.com NONSGML v1.0//EN
CALSCALE:GREGORIAN
METHOD:PUBLISH
BEGIN:VEVENT
UID:69e845e0486b2
DTSTAMP:20260422T035200Z
DTSTART:20221018
DTEND:20221019
LOCATION:
SUMMARY:ART2BUSSINES - ERASMUS+ STRATEŠKA PARTNERSTVA
DESCRIPTION:\nhttps://www.ssom.si/events/42304/
URL:https://www.ssom.si/events/42304/
END:VEVENT
END:VCALENDAR