BEGIN:VCALENDAR
VERSION:2.0
PRODID:-//eventon.com NONSGML v1.0//EN
CALSCALE:GREGORIAN
METHOD:PUBLISH
BEGIN:VEVENT
UID:69e5e9d1d5d16
DTSTAMP:20260420T085441Z
DTSTART:20221118T141500Z
DTEND:20221119T140000Z
LOCATION:
SUMMARY:LAN PARTY - prestavljeno
DESCRIPTION:\nhttps://www.ssom.si/events/lan-party/
URL:https://www.ssom.si/events/lan-party/
END:VEVENT
END:VCALENDAR