BEGIN:VCALENDAR
VERSION:2.0
PRODID:-//eventon.com NONSGML v1.0//EN
CALSCALE:GREGORIAN
METHOD:PUBLISH
BEGIN:VEVENT
UID:69e5ea8e46c0d
DTSTAMP:20260420T085750Z
DTSTART:20221220T140000Z
DTEND:20221220T160000Z
LOCATION:
SUMMARY:KINOKROŽEK 
DESCRIPTION:KINOKROŽEK&nbsp; V&nbsp;torek\,  20. 12. 2022\,  bo&nbsp;tretj
 a&nbsp;predstava&nbsp;Tori in&nbsp;Lokita&nbsp;(88&nbsp;minut).&nbsp; Dobim
 o se v avli&nbsp;MARIBOXa&nbsp;ob&nbsp;15.15\, &nbsp;ko pri spremljevalki p
 otrdite prisotnost.&nbsp; Vstopnico kupite sami pred predstavo (4\,  00 evr
 e). Prosim\,  da pripravite drobiž.&nbsp; Vabljeni&nbsp;ste&nbsp;tudi dija
 ki\,  ki niste&nbsp;prijavljeni h krožku.&nbsp; Iva Žnuderl in Petra Arne
 jčič Munda&nbsp;\nhttps://www.ssom.si/events/kinokrozek-3/
URL:https://www.ssom.si/events/kinokrozek-3/
END:VEVENT
END:VCALENDAR